BEGIN:VCALENDAR
VERSION:2.0
PRODID:-//ChamberMaster//Event Calendar 2.0//EN
METHOD:PUBLISH
X-PUBLISHED-TTL:P3D
REFRESH-INTERVAL:P3D
CALSCALE:GREGORIAN
BEGIN:VEVENT
DTSTART:20150303T133000Z
DTEND:20150303T150000Z
X-MICROSOFT-CDO-ALLDAYEVENT:FALSE
SUMMARY:New Member Welcome 3/3/15
DESCRIPTION:New Member Welcome
X-ALT-DESC;FMTTYPE=text/html:New Member Welcome
LOCATION:Fire Station on Lilly Road W140N7501 Lilly Road (just south of Appleton Ave.) Menomonee Falls\, WI 53051
UID:e.596.426
SEQUENCE:3
DTSTAMP:20260419T230319Z
URL:https://business.gmfschamber.com/events/details/new-member-welcome-3-3-15-03-03-2015-426
END:VEVENT

END:VCALENDAR
