BEGIN:VCALENDAR
VERSION:2.0
PRODID:-//ChamberMaster//Event Calendar 2.0//EN
METHOD:PUBLISH
X-PUBLISHED-TTL:P3D
REFRESH-INTERVAL:P3D
CALSCALE:GREGORIAN
BEGIN:VEVENT
DTSTART;VALUE=DATE:20150819
DTEND;VALUE=DATE:20150820
TRANSP:TRANSPARENT
X-MICROSOFT-CDO-ALLDAYEVENT:TRUE
SUMMARY:Men. Falls WAT Grant Subsidized Training Through WCTC 8/19/15
DESCRIPTION:Upcoming Menomonee Falls-Based Training Grant Course\n\nLEAN & CONTINUOUS IMPROVEMENT \n\nCoaching Continuous Improvement Teams This workshop is focused on getting the most out of your Continuous Improvement Investment. A lean Six Sigma Master Black Belt will lead a roundtable style discussion on benchmark best practices and provide a proven strategy for obtaining desired results. Participants will gain a better perspective on how to complete CI projects in a timely fashion\, align projects with organizational goals\, achieve anticipated project results and achieve sustainable process improvement.\n\n\n\nWednesday\, August 19\,  2015  8:00 pm - 5:00 pm\n\n$25 per participant\n\nTraining Location Community Memorial Hospital- Meeting Room A/B\n\nW180N8085 Town Hall Rd.\, Menomonee Falls\, WI 53051\n\n\n\nTo register for a course please visit the WCTC website at www.wctc.edu/business-and-community/CBPS/meno-falls/viewall.php \n\nWe encourage you to check the website often to view new courses that will be offered through August 2015.
X-ALT-DESC;FMTTYPE=text/html:<strong><span style="font-size: 16pt\;"><span style="color: rgb(46\, 116\, 181)\;"><span style="font-family: calibri\;">Upcoming Menomonee Falls-Based Training Grant Course</span></span></span></strong><br />\n<strong><span style="font-size: 18pt\;"><span style="font-family: calibri\;">LEAN &amp\; CONTINUOUS IMPROVEMENT </span></span></strong><br />\n<span style="font-family: calibri\;"><span style="color: rgb(255\, 0\, 0)\;"><strong><span style="font-size: 10pt\;">Coaching Continuous Improvement Teams</span></strong></span><span style="font-size: 10pt\;"><span style="color: rgb(255\, 0\, 0)\;"> </span>This workshop is focused on getting the most out of your Continuous Improvement Investment. A lean Six Sigma Master Black Belt will lead a roundtable style discussion on benchmark best practices and provide a proven strategy for obtaining desired results. Participants will gain a better perspective on how to complete CI projects in a timely fashion\, align projects with organizational goals\, achieve anticipated project results and achieve sustainable process improvement.</span></span><br />\n<br />\n<span style="color: rgb(255\, 0\, 0)\;"><strong><span style="font-size: 10pt\;"><span style="font-family: calibri\;">Wednesday\,&nbsp\;August 19\,&nbsp\; 2015&nbsp\; 8:00 pm - 5:00 pm</span></span></strong></span><br />\n<span style="font-size: 10pt\;"><span style="font-family: calibri\;">$25 per participant</span></span><br />\n<span style="font-family: calibri\;"><strong><span style="font-size: 10pt\;">Training Location</span></strong> </span><span style="font-size: 10pt\;"><span style="font-family: calibri\;">Community Memorial Hospital- Meeting Room A/B</span></span><br />\n<span style="font-family: times new roman\;"><span style="font-size: 10pt\;">W180N8085 Town Hall Rd.</span><span style="font-size: 10pt\;">\, Menomonee Falls\, WI 53051</span></span><br />\n<br />\n<span style="font-size: 14px\;"><strong><span style="color: rgb(255\, 0\, 0)\;"><span style="line-height: 107%\; font-family: Calibri\; mso-fareast-font-family: &quot\;Times New Roman&quot\;\; mso-bidi-font-family: &quot\;Times New Roman&quot\;\; mso-ansi-language: EN-US\; mso-fareast-language: EN-US\; mso-bidi-language: AR-SA\;">To register for a course please visit&nbsp\;the WCTC&nbsp\;website at</span></span><span style="color: black\; line-height: 107%\; font-family: Calibri\; mso-fareast-font-family: &quot\;Times New Roman&quot\;\; mso-bidi-font-family: &quot\;Times New Roman&quot\;\; mso-ansi-language: EN-US\; mso-fareast-language: EN-US\; mso-bidi-language: AR-SA\;"> </span><span style="line-height: 107%\; font-family: Calibri\; mso-fareast-font-family: &quot\;Times New Roman&quot\;\; mso-bidi-font-family: &quot\;Times New Roman&quot\;\; mso-ansi-language: EN-US\; mso-fareast-language: EN-US\; mso-bidi-language: AR-SA\;"><a href="http://www.wctc.edu/business-and-community/CBPS/meno-falls/viewall.php"><span style="line-height: 107%\;"><font color="#0563c1" face="Times New Roman">www.wctc.edu/business-and-community/CBPS/meno-falls/viewall.php</font></span></a></span><span style="line-height: 107%\; font-family: Calibri\; mso-fareast-font-family: &quot\;Times New Roman&quot\;\; mso-bidi-font-family: &quot\;Times New Roman&quot\;\; mso-ansi-language: EN-US\; mso-fareast-language: EN-US\; mso-bidi-language: AR-SA\;"><font color="#000000"> </font><br />\n<span style="color: rgb(255\, 0\, 0)\;">We encourage you to check the website often to view new courses that will be offered through August 2015. </span></span></strong></span><br />\n<span style="color: rgb(255\, 0\, 0)\;">&nbsp\;</span>
LOCATION:Training Location: Community Memorial Hospital- Meeting Room A/B W180N8085 Town Hall Rd.\, Menomonee Falls\, WI 53051
UID:e.596.452
SEQUENCE:3
DTSTAMP:20260419T152810Z
URL:https://business.gmfschamber.com/events/details/men-falls-wat-grant-subsidized-training-through-wctc-8-19-15-08-19-2015-452
END:VEVENT

END:VCALENDAR
