BEGIN:VCALENDAR
VERSION:2.0
PRODID:-//ChamberMaster//Event Calendar 2.0//EN
METHOD:PUBLISH
X-PUBLISHED-TTL:P3D
REFRESH-INTERVAL:P3D
CALSCALE:GREGORIAN
BEGIN:VEVENT
DTSTART:20150818T180000Z
DTEND:20150818T220000Z
X-MICROSOFT-CDO-ALLDAYEVENT:FALSE
SUMMARY:Men. Falls WAT Grant Subsidized Training Through WCTC 8/18/15
DESCRIPTION:Upcoming Menomonee Falls-Based Training Grant Course\n\nLEAN & CONTINUOUS IMPROVEMENT \n\nValue Stream Mapping VSM is a Lean Six Sigma tool used to identify waste and improve process efficiency. Value Stream Maps provide a roadmap to transform from current state performance to future state performance. Participants will learn how to improve the follow of process\, material\, and information.\n\n\n\nThursday\, August 18th 2015  1:00 pm - 5:00 pm\n\n$15 per participant\n\nTraining Location Community Memorial Hospital Meeting Rm A/B\n\nW180N8085 Town Hall Rd.\, Menomonee Falls\, WI 53051\n\n\n\nTo register for a course please visit the WCTC website at www.wctc.edu/business-and-community/CBPS/meno-falls/viewall.php \n\nWe encourage you to check the website often to view new courses that will be offered through August 2015.
X-ALT-DESC;FMTTYPE=text/html:<strong><span style="font-size: 16pt\;"><span style="color: rgb(46\, 116\, 181)\;"><span style="font-family: calibri\;">Upcoming Menomonee Falls-Based Training Grant Course</span></span></span></strong><br />\n<strong><span style="font-size: 18pt\;"><span style="font-family: calibri\;">LEAN &amp\; CONTINUOUS IMPROVEMENT </span></span></strong><br />\n<span style="font-family: calibri\;"><span style="color: rgb(255\, 0\, 0)\;"><strong><span style="font-size: 10pt\;">Value Stream Mapping </span></strong></span><span style="font-size: 10pt\;">VSM is a Lean Six Sigma tool used to identify waste and improve process efficiency. Value Stream Maps provide a roadmap to transform from current state performance to future state performance. Participants will learn how to improve the follow of process\, material\, and information.</span></span><br />\n<br />\n<span style="color: rgb(255\, 0\, 0)\;"><strong><span style="font-size: 10pt\;"><span style="font-family: calibri\;">Thursday\,&nbsp\;August 18th 2015&nbsp\; 1:00 pm - 5:00 pm</span></span></strong></span><br />\n<span style="font-size: 10pt\;"><span style="font-family: calibri\;">$15 per participant</span></span><br />\n<span style="font-family: calibri\;"><strong><span style="font-size: 10pt\;">Training Location</span></strong> <span style="font-size: 9pt\;"><span style="color: black\;">Community Memorial Hospital Meeting Rm A/B</span></span></span><br />\n<span style="font-size: 10pt\;"><span style="font-family: times new roman\;">W180N8085 Town Hall Rd.\, Menomonee Falls\, WI 53051</span></span><br />\n<br />\n<span style="font-size: 14px\;"><strong><span style="color: rgb(255\, 0\, 0)\;"><span style="line-height: 107%\; font-family: Calibri\; mso-fareast-font-family: &quot\;Times New Roman&quot\;\; mso-bidi-font-family: &quot\;Times New Roman&quot\;\; mso-ansi-language: EN-US\; mso-fareast-language: EN-US\; mso-bidi-language: AR-SA\;">To register for a course please visit&nbsp\;the WCTC&nbsp\;website at</span></span><span style="color: black\; line-height: 107%\; font-family: Calibri\; mso-fareast-font-family: &quot\;Times New Roman&quot\;\; mso-bidi-font-family: &quot\;Times New Roman&quot\;\; mso-ansi-language: EN-US\; mso-fareast-language: EN-US\; mso-bidi-language: AR-SA\;"> </span><span style="line-height: 107%\; font-family: Calibri\; mso-fareast-font-family: &quot\;Times New Roman&quot\;\; mso-bidi-font-family: &quot\;Times New Roman&quot\;\; mso-ansi-language: EN-US\; mso-fareast-language: EN-US\; mso-bidi-language: AR-SA\;"><a href="http://www.wctc.edu/business-and-community/CBPS/meno-falls/viewall.php"><span style="line-height: 107%\;"><font color="#0563c1" face="Times New Roman">www.wctc.edu/business-and-community/CBPS/meno-falls/viewall.php</font></span></a></span><span style="line-height: 107%\; font-family: Calibri\; mso-fareast-font-family: &quot\;Times New Roman&quot\;\; mso-bidi-font-family: &quot\;Times New Roman&quot\;\; mso-ansi-language: EN-US\; mso-fareast-language: EN-US\; mso-bidi-language: AR-SA\;"><font color="#000000"> </font><br />\n<span style="color: rgb(255\, 0\, 0)\;">We encourage you to check the website often to view new courses that will be offered through August 2015. </span></span></strong></span><br />\n<span style="color: rgb(255\, 0\, 0)\;">&nbsp\;</span>
LOCATION:Training Location: Community Memorial Hospital Meeting Rm A/B W180N8085 Town Hall Rd.\, Menomonee Falls\, WI 53051
UID:e.596.449
SEQUENCE:3
DTSTAMP:20260419T152847Z
URL:https://business.gmfschamber.com/events/details/men-falls-wat-grant-subsidized-training-through-wctc-8-18-15-08-18-2015-449
END:VEVENT

END:VCALENDAR
