BEGIN:VCALENDAR
VERSION:2.0
PRODID:-//ChamberMaster//Event Calendar 2.0//EN
METHOD:PUBLISH
X-PUBLISHED-TTL:P3D
REFRESH-INTERVAL:P3D
CALSCALE:GREGORIAN
BEGIN:VEVENT
DTSTART:20150721T130000Z
DTEND:20150721T170000Z
X-MICROSOFT-CDO-ALLDAYEVENT:FALSE
SUMMARY:Men. Falls WAT Grant Subsidized Training Through WCTC 7/21/15
DESCRIPTION:Upcoming Menomonee Falls-Based Training Grant Course\n\nTEAM DYNAMICS\n\nEthics and Boundaries in the Workplace Workplace ethics training is highly recommended for fostering a trustworthy working environment. Many employees have a general sense of right and wrong\, but may not understand the legal intricacies of their business enough to identify and not engage in unethical activities. Additionally\, there is sometimes confusion about the often-subtle differences between illegal and unethical behavior. Proper training helps keep each employee informed\, while hopefully preventing errors in judgment that cast a negative light on the company.\n\n\n\nTuesday\, July 21\, 2015     8:00-12:00 pm\n\n$15 per participant\n\nTraining Location Menomonee Falls Community Education and Recreation Center (Room 123)\n\nW152N8645 Margaret Rd.\, Menomonee Falls\, WI 53051\n\n\n\nTo register for a course please visit the WCTC website at www.wctc.edu/business-and-community/CBPS/meno-falls/viewall.php \n\nWe encourage you to check the website often to view new courses that will be offered through August 2015.
X-ALT-DESC;FMTTYPE=text/html:<strong><span style="font-size: 16pt\;"><span style="color: rgb(46\, 116\, 181)\;"><span style="font-family: calibri\;">Upcoming Menomonee Falls-Based Training Grant Course</span></span></span></strong><br />\n<strong><span style="font-size: 20pt\;"><span style="font-family: calibri\;">TEAM DYNAMICS</span></span></strong><br />\n<span style="font-family: calibri\;"><span style="font-size: 10pt\;"><strong><span style="color: rgb(255\, 0\, 0)\;">Ethics and Boundaries in the Workplace</span><span style="font-size: 10pt\;"> </span></strong>Workplace ethics training is highly recommended for fostering a trustworthy working environment. Many employees have a general sense of right and wrong\, but may not understand the legal intricacies of their business enough to identify and not engage in unethical activities. Additionally\, there is sometimes confusion about the often-subtle differences between illegal and unethical behavior. Proper training helps keep each employee informed\, while hopefully preventing errors in judgment that cast a negative light on the company.</span></span><br />\n<br />\n<span style="color: rgb(255\, 0\, 0)\;"><strong><span style="font-size: 10pt\;"><span style="font-family: times new roman\;">Tuesday\, July 21\, 2015&nbsp\;&nbsp\;&nbsp\;&nbsp\; 8:00-12:00 pm</span></span></strong></span><br />\n<span style="font-size: 10pt\;"><span style="font-family: times new roman\;">$15 per participant</span></span><br />\n<span style="font-family: calibri\;"><strong><span style="font-size: 10pt\;">Training Location</span></strong></span><span style="font-size: 10px\;"> Menomonee Falls Community Education and Recreation Center (Room 123)</span><br />\n<span style="font-size: 10pt\;"><span style="font-family: calibri\;">W152N8645 Margaret Rd.\, Menomonee Falls\, WI 53051</span></span><br />\n<br />\n<span style="font-size: 14px\;"><strong><span style="color: rgb(255\, 0\, 0)\;"><span style="line-height: 107%\; font-family: Calibri\; mso-fareast-font-family: &quot\;Times New Roman&quot\;\; mso-bidi-font-family: &quot\;Times New Roman&quot\;\; mso-ansi-language: EN-US\; mso-fareast-language: EN-US\; mso-bidi-language: AR-SA\;">To register for a course please visit&nbsp\;the WCTC&nbsp\;website at</span></span><span style="color: black\; line-height: 107%\; font-family: Calibri\; mso-fareast-font-family: &quot\;Times New Roman&quot\;\; mso-bidi-font-family: &quot\;Times New Roman&quot\;\; mso-ansi-language: EN-US\; mso-fareast-language: EN-US\; mso-bidi-language: AR-SA\;"> </span><span style="line-height: 107%\; font-family: Calibri\; mso-fareast-font-family: &quot\;Times New Roman&quot\;\; mso-bidi-font-family: &quot\;Times New Roman&quot\;\; mso-ansi-language: EN-US\; mso-fareast-language: EN-US\; mso-bidi-language: AR-SA\;"><a href="http://www.wctc.edu/business-and-community/CBPS/meno-falls/viewall.php"><span style="line-height: 107%\;"><font color="#0563c1" face="Times New Roman">www.wctc.edu/business-and-community/CBPS/meno-falls/viewall.php</font></span></a></span><span style="line-height: 107%\; font-family: Calibri\; mso-fareast-font-family: &quot\;Times New Roman&quot\;\; mso-bidi-font-family: &quot\;Times New Roman&quot\;\; mso-ansi-language: EN-US\; mso-fareast-language: EN-US\; mso-bidi-language: AR-SA\;"><font color="#000000"> </font><br />\n<span style="color: rgb(255\, 0\, 0)\;">We encourage you to check the website often to view new courses that will be offered through August 2015. </span></span></strong></span><br />\n<span style="color: rgb(255\, 0\, 0)\;">&nbsp\;</span>
LOCATION:Training Location: Menomonee Falls Community Education and Recreation Center (Room 123) W152N8645 Margaret Rd.\, Menomonee Falls\, WI 53051
UID:e.596.465
SEQUENCE:3
DTSTAMP:20260419T164733Z
URL:https://business.gmfschamber.com/events/details/men-falls-wat-grant-subsidized-training-through-wctc-7-21-15-07-21-2015-465
END:VEVENT

END:VCALENDAR
