BEGIN:VCALENDAR
VERSION:2.0
PRODID:-//ChamberMaster//Event Calendar 2.0//EN
METHOD:PUBLISH
X-PUBLISHED-TTL:P3D
REFRESH-INTERVAL:P3D
CALSCALE:GREGORIAN
BEGIN:VEVENT
DTSTART:20150629T173000Z
DTEND:20150629T213000Z
X-MICROSOFT-CDO-ALLDAYEVENT:FALSE
SUMMARY:Men. Falls WAT Grant Subsidized Training Through WCTC 6/29/15
DESCRIPTION:Upcoming Menomonee Falls-Based Training Grant Course\n\nTEAM DYNAMICS\n\nHow to Recruit and Retain Top Talent: Explore best practices that will make a huge difference to you and your business. From the initial decision to hire (when is the right time to add people?) to writing an effective ad that will draw the right applicants for the position to placing those ads to generate the most high-quality career minded applicants. Add in a proven interview & tracking process\, screening and HR do's and don'ts\, and strong motivating\, training & retention strategies   and you have a definite recipe for success.\n\n\n\nMonday\, June 29\, 2015   12:30-4:30 pm\n\n$15 per participant\n\nTraining Location Community Memorial Hospital- Meeting Room A/B\n\nW180N8085 Town Hall Rd.\, Menomonee Falls\, WI 53051\n\n\n\nTo register for a course please visit the WCTC website at www.wctc.edu/business-and-community/CBPS/meno-falls/viewall.php \n\nWe encourage you to check the website often to view new courses that will be offered through August 2015.
X-ALT-DESC;FMTTYPE=text/html:<strong><span style="font-size: 16pt\;"><span style="color: rgb(46\, 116\, 181)\;"><span style="font-family: calibri\;">Upcoming Menomonee Falls-Based Training Grant Course</span></span></span></strong><br />\n<strong><span style="font-size: 20pt\;"><span style="font-family: calibri\;">TEAM DYNAMICS</span></span></strong><br />\n<strong><span style="color: rgb(255\, 0\, 0)\;"><span style="font-size: 10pt\;"><span style="font-family: calibri\;">How to Recruit and Retain Top Talent:</span></span></span> </strong><span style="font-size: 10pt\;"><span style="font-family: calibri\;">Explore<u> b</u>est practices that will make a huge difference to you and your business</span>. From the initial decision to hire (when is the right time to add people?) to writing an effective ad that will draw the right applicants</span> for the position to placing those ads to generate the most high-quality career minded applicants. Add in a proven interview &amp\; tracking process\, screening and HR do&rsquo\;s and don&rsquo\;ts\, and strong motivating\, training &amp\; retention strategies &ndash\; and you have a definite recipe for success.<br />\n<br />\n<span style="color: rgb(255\, 0\, 0)\;"><strong><span style="font-size: 10pt\;"><span style="font-family: calibri\;">Monday\, June 29\, 2015&nbsp\;&nbsp\; 12:30-4:30 pm</span></span></strong></span><br />\n<span style="font-size: 10pt\;"><span style="font-family: calibri\;">$15 per participant</span></span><br />\n<span style="font-family: calibri\;"><strong><span style="font-size: 10pt\;">Training Location</span></strong><span style="font-size: 10pt\;"> Community Memorial Hospital- Meeting Room A/B</span></span><br />\n<span style="font-size: 10pt\;"><span style="font-family: times new roman\;">W180N8085 Town Hall Rd.\, Menomonee Falls\, WI 53051</span></span><br />\n<br />\n<span style="font-size: 14px\;"><strong><span style="color: rgb(255\, 0\, 0)\;"><span style="line-height: 107%\; font-family: Calibri\; mso-fareast-font-family: &quot\;Times New Roman&quot\;\; mso-bidi-font-family: &quot\;Times New Roman&quot\;\; mso-ansi-language: EN-US\; mso-fareast-language: EN-US\; mso-bidi-language: AR-SA\;">To register for a course please visit&nbsp\;the WCTC&nbsp\;website at</span></span><span style="color: black\; line-height: 107%\; font-family: Calibri\; mso-fareast-font-family: &quot\;Times New Roman&quot\;\; mso-bidi-font-family: &quot\;Times New Roman&quot\;\; mso-ansi-language: EN-US\; mso-fareast-language: EN-US\; mso-bidi-language: AR-SA\;"> </span><span style="line-height: 107%\; font-family: Calibri\; mso-fareast-font-family: &quot\;Times New Roman&quot\;\; mso-bidi-font-family: &quot\;Times New Roman&quot\;\; mso-ansi-language: EN-US\; mso-fareast-language: EN-US\; mso-bidi-language: AR-SA\;"><a href="http://www.wctc.edu/business-and-community/CBPS/meno-falls/viewall.php"><span style="line-height: 107%\;"><font color="#0563c1" face="Times New Roman">www.wctc.edu/business-and-community/CBPS/meno-falls/viewall.php</font></span></a></span><span style="line-height: 107%\; font-family: Calibri\; mso-fareast-font-family: &quot\;Times New Roman&quot\;\; mso-bidi-font-family: &quot\;Times New Roman&quot\;\; mso-ansi-language: EN-US\; mso-fareast-language: EN-US\; mso-bidi-language: AR-SA\;"><font color="#000000"> </font><br />\n<span style="color: rgb(255\, 0\, 0)\;">We encourage you to check the website often to view new courses that will be offered through August 2015. </span></span></strong></span><br />\n<span style="color: rgb(255\, 0\, 0)\;">&nbsp\;</span>
LOCATION:Training Location: Community Memorial Hospital- Meeting Room A/B W180N8085 Town Hall Rd.\, Menomonee Falls\, WI 53051
UID:e.596.464
SEQUENCE:3
DTSTAMP:20260419T184111Z
URL:https://business.gmfschamber.com/events/details/men-falls-wat-grant-subsidized-training-through-wctc-6-29-15-06-29-2015-464
END:VEVENT

END:VCALENDAR
