BEGIN:VCALENDAR
VERSION:2.0
PRODID:-//ChamberMaster//Event Calendar 2.0//EN
METHOD:PUBLISH
X-PUBLISHED-TTL:P3D
REFRESH-INTERVAL:P3D
CALSCALE:GREGORIAN
BEGIN:VEVENT
DTSTART:20150619T180000Z
DTEND:20150619T220000Z
X-MICROSOFT-CDO-ALLDAYEVENT:FALSE
SUMMARY:Men. Falls WAT Grant Subsidized Training Through WCTC 6/19/15
DESCRIPTION:Upcoming Menomonee Falls-Based Training Grant Course\n\nCOMMUNICATION\n\n Business Communication Learn to project a confident and professional image Present your ideas in ways to maximize agreement Increase your confidence and comfort level when speaking in front of clients\, managers and employees. Communicate more effectively with customers\, employees and co-workers. Build stronger working relationships through increased understanding. Make more powerful individual and meeting presentations. Communicate the message you want with stronger body language\, gestures and tones. Reduce the instances of being misunderstood or misrepresented. Increase credibility in both internal and client business settings. Identify and replace words\, phrases and mannerisms that reduce credibility. Communicate more effectively with cultural\, generational and other differences.\n\n\n\nFriday\, June 19\, 2015 1:00-5:00 pm\n\n$15 per participant\n\nTraining Location Community Memorial Hospital East Conference Room\n\nW180N8085 Town Hall Rd.\, Menomonee Falls\, WI 53051\n\n\n\nTo register for a course please visit the WCTC website at www.wctc.edu/business-and-community/CBPS/meno-falls/viewall.php \n\nWe encourage you to check the website often to view new courses that will be offered through August 2015.
X-ALT-DESC;FMTTYPE=text/html:<strong><span style="font-size: 16pt\;"><span style="color: rgb(46\, 116\, 181)\;"><span style="font-family: calibri\;">Upcoming Menomonee Falls-Based Training Grant Course</span></span></span></strong><br />\n<strong><span style="font-size: 20pt\;"><span style="font-family: calibri\;">COMMUNICATION</span></span></strong><br />\n<span style="color: rgb(255\, 0\, 0)\;"><strong><font face="Calibri" size="2">&nbsp\;</font><span style="font-size: 10pt\;"><span style="font-family: times new roman\;">Business Communication </span></span></strong></span><span style="font-size: 10pt\;"><span style="font-family: calibri\;">Learn to project a confident and professional image Present your ideas in ways to maximize agreement&hellip\;Increase your confidence and comfort level when speaking in front of clients\, managers and employees. Communicate more effectively with customers\, employees and co-workers. Build stronger working relationships through increased understanding. Make more powerful individual and meeting presentations. Communicate the message you want with stronger body language\, gestures and tones. Reduce the instances of being misunderstood or misrepresented. Increase credibility in both internal and client business settings. Identify and replace words\, phrases and mannerisms that reduce credibility. Communicate more effectively with cultural\, generational and other differences.</span></span><br />\n<br />\n<span style="color: rgb(255\, 0\, 0)\;"><strong><span style="font-size: 10pt\;"><span style="font-family: times new roman\;">Friday\, June 19\, 2015 1:00-5:00 pm</span></span></strong></span><br />\n<span style="font-size: 10pt\;"><span style="font-family: calibri\;">$15 per participant</span></span><br />\n<span style="font-family: times new roman\;"><strong><span style="font-size: 10pt\;">Training Location</span></strong><span style="font-size: 10pt\;"> Community Memorial Hospital East Conference Room</span></span><br />\n<span style="font-size: 10pt\;"><span style="font-family: times new roman\;">W180N8085 Town Hall Rd.\, Menomonee Falls\, WI 53051</span></span><br />\n<br />\n<span style="font-size: 14px\;"><strong><span style="color: rgb(255\, 0\, 0)\;"><span style="line-height: 107%\; font-family: Calibri\; mso-fareast-font-family: &quot\;Times New Roman&quot\;\; mso-bidi-font-family: &quot\;Times New Roman&quot\;\; mso-ansi-language: EN-US\; mso-fareast-language: EN-US\; mso-bidi-language: AR-SA\;">To register for a course please visit&nbsp\;the WCTC&nbsp\;website at</span></span><span style="color: black\; line-height: 107%\; font-family: Calibri\; mso-fareast-font-family: &quot\;Times New Roman&quot\;\; mso-bidi-font-family: &quot\;Times New Roman&quot\;\; mso-ansi-language: EN-US\; mso-fareast-language: EN-US\; mso-bidi-language: AR-SA\;"> </span><span style="line-height: 107%\; font-family: Calibri\; mso-fareast-font-family: &quot\;Times New Roman&quot\;\; mso-bidi-font-family: &quot\;Times New Roman&quot\;\; mso-ansi-language: EN-US\; mso-fareast-language: EN-US\; mso-bidi-language: AR-SA\;"><a href="http://www.wctc.edu/business-and-community/CBPS/meno-falls/viewall.php"><span style="line-height: 107%\;"><font color="#0563c1" face="Times New Roman">www.wctc.edu/business-and-community/CBPS/meno-falls/viewall.php</font></span></a></span><span style="line-height: 107%\; font-family: Calibri\; mso-fareast-font-family: &quot\;Times New Roman&quot\;\; mso-bidi-font-family: &quot\;Times New Roman&quot\;\; mso-ansi-language: EN-US\; mso-fareast-language: EN-US\; mso-bidi-language: AR-SA\;"><font color="#000000"> </font><br />\n<span style="color: rgb(255\, 0\, 0)\;">We encourage you to check the website often to view new courses that will be offered through August 2015. </span></span></strong></span><br />\n<span style="color: rgb(255\, 0\, 0)\;">&nbsp\;</span>
LOCATION:Training Location: Community Memorial Hospital East Conference Room W180N8085 Town Hall Rd.\, Menomonee Falls\, WI 53051
UID:e.596.457
SEQUENCE:3
DTSTAMP:20260419T184340Z
URL:https://business.gmfschamber.com/events/details/men-falls-wat-grant-subsidized-training-through-wctc-6-19-15-06-19-2015-457
END:VEVENT

END:VCALENDAR
