BEGIN:VCALENDAR
VERSION:2.0
PRODID:-//ChamberMaster//Event Calendar 2.0//EN
METHOD:PUBLISH
X-PUBLISHED-TTL:P3D
REFRESH-INTERVAL:P3D
CALSCALE:GREGORIAN
BEGIN:VEVENT
DTSTART:20150204T133000Z
DTEND:20150204T223000Z
X-MICROSOFT-CDO-ALLDAYEVENT:FALSE
SUMMARY:Leadership Menomonee Falls: Volunteer Day
DESCRIPTION:
X-ALT-DESC;FMTTYPE=text/html:
LOCATION:To be determined
UID:e.596.351
SEQUENCE:3
DTSTAMP:20260420T013218Z
URL:https://business.gmfschamber.com/events/details/leadership-menomonee-falls-volunteer-day-02-04-2015-351
END:VEVENT

END:VCALENDAR
