BEGIN:VCALENDAR
VERSION:2.0
PRODID:-//ChamberMaster//Event Calendar 2.0//EN
METHOD:PUBLISH
X-PUBLISHED-TTL:P3D
REFRESH-INTERVAL:P3D
CALSCALE:GREGORIAN
BEGIN:VEVENT
DTSTART:20150107T133000Z
DTEND:20150107T223000Z
X-MICROSOFT-CDO-ALLDAYEVENT:FALSE
SUMMARY:Leadership Menomonee Falls: January Session
DESCRIPTION:
X-ALT-DESC;FMTTYPE=text/html:
LOCATION:To be determined
UID:e.596.350
SEQUENCE:3
DTSTAMP:20260420T013151Z
URL:https://business.gmfschamber.com/events/details/leadership-menomonee-falls-january-session-01-07-2015-350
END:VEVENT

END:VCALENDAR
