BEGIN:VCALENDAR
VERSION:2.0
PRODID:-//ChamberMaster//Event Calendar 2.0//EN
METHOD:PUBLISH
X-PUBLISHED-TTL:P3D
REFRESH-INTERVAL:P3D
CALSCALE:GREGORIAN
BEGIN:VEVENT
DTSTART:20150613T150000Z
DTEND:20150613T230000Z
X-MICROSOFT-CDO-ALLDAYEVENT:FALSE
SUMMARY:Join and Save
DESCRIPTION:You're Invited to the Join and Save Event\n\nSaturday\, June 13th 2015 10am-6pm at Sam's Club\n\n\n\nInvitation to Shop\n\nValid June 13th 2015 ONLY\n\nBring this invitation to the Member Service Desk at your local Sam's Club for a pass to shop for a day.\n\n\n\nReceive the special offer when you join or renew today\n\nFree Pizza\n\nFree Rotisserie Chicken\n\n$3 Off Member's Mark Purified Water 40 Pack\n\n$4 Off Red Seedless Grapes 3lb.\n\n\n\nFree Health Screenings\n\n11AM - 3PM
X-ALT-DESC;FMTTYPE=text/html:You&#39\;re Invited to the Join and Save Event<br />\nSaturday\, June 13th 2015 10am-6pm at Sam&#39\;s Club<br />\n<br />\nInvitation to Shop<br />\nValid June 13th 2015 ONLY<br />\nBring this invitation to the Member Service Desk at your local Sam&#39\;s Club for a pass to shop for a day.<br />\n<br />\nReceive the special offer when you join or renew today<br />\nFree Pizza<br />\nFree Rotisserie Chicken<br />\n$3 Off Member&#39\;s Mark Purified Water 40 Pack<br />\n$4 Off Red Seedless Grapes 3lb.<br />\n<br />\nFree Health Screenings<br />\n11AM - 3PM
LOCATION:7701 W Calumet Rd Milwaukee\, WI 53223
UID:e.596.439
SEQUENCE:3
DTSTAMP:20260419T182544Z
URL:https://business.gmfschamber.com/events/details/join-and-save-06-13-2015-439
END:VEVENT

END:VCALENDAR
