BEGIN:VCALENDAR
VERSION:2.0
PRODID:-//ChamberMaster//Event Calendar 2.0//EN
METHOD:PUBLISH
X-PUBLISHED-TTL:P3D
REFRESH-INTERVAL:P3D
CALSCALE:GREGORIAN
BEGIN:VEVENT
DTSTART:20150312T000000Z
DTEND:20150312T010000Z
X-MICROSOFT-CDO-ALLDAYEVENT:FALSE
SUMMARY:Healthy Lifestyle Segements with Dr. Mike: Colds\, Flu's and Stimulating your Immune System
DESCRIPTION:This is the first presentation in a series of six. These classes will focus on natural approaches\, with sensible options\, while discussing a variety of health topics. Dr. Mike Meleski has been practicing Chiropractic and mainstream alternative medicine for over 25 years with a strong emphasis on patient education and responsible health.
X-ALT-DESC;FMTTYPE=text/html:This is the first presentation in a series of six. These classes will focus on natural approaches\, with sensible options\, while discussing a variety of health topics. Dr. Mike Meleski has been practicing Chiropractic and mainstream alternative medicine for over 25 years with a strong emphasis on patient education and responsible health.
LOCATION:Peace Yoga building: N89 W16800 Appleton Ave. Menomonee Falls
UID:e.596.427
SEQUENCE:3
DTSTAMP:20260419T230848Z
URL:https://business.gmfschamber.com/events/details/healthy-lifestyle-segements-with-dr-mike-colds-flu-s-and-stimulating-your-immune-system-03-11-2015-427
END:VEVENT

END:VCALENDAR
