BEGIN:VCALENDAR
VERSION:2.0
PRODID:-//ChamberMaster//Event Calendar 2.0//EN
METHOD:PUBLISH
X-PUBLISHED-TTL:P3D
REFRESH-INTERVAL:P3D
CALSCALE:GREGORIAN
BEGIN:VEVENT
DTSTART:20150326T000000Z
DTEND:20150326T010000Z
X-MICROSOFT-CDO-ALLDAYEVENT:FALSE
SUMMARY:Healthy Lifestyle Segements with Dr. Mike: Cleanses that Detoxify for Better Health
DESCRIPTION:This is the second presentation in a series of six. These classes will focus on natural approaches and sensible options\, while discussing a variety of health topics. Dr. Mike Meleski has been practicing Chiropractic and mainstream alternative medicine for over 25 years with a strong emphasis on patient education and responsible health.
X-ALT-DESC;FMTTYPE=text/html:This is the second presentation in a series of six. These classes will focus on natural approaches and sensible options\, while discussing a variety of health topics. Dr. Mike Meleski has been practicing Chiropractic and mainstream alternative medicine for over 25 years with a strong emphasis on patient education and responsible health.
LOCATION:Peace Yoga building: N89 W16800 Appleton Ave. Menomonee Falls
UID:e.596.430
SEQUENCE:3
DTSTAMP:20260419T231017Z
URL:https://business.gmfschamber.com/events/details/healthy-lifestyle-segements-with-dr-mike-cleanses-that-detoxify-for-better-health-03-25-2015-430
END:VEVENT

END:VCALENDAR
