BEGIN:VCALENDAR
VERSION:2.0
PRODID:-//ChamberMaster//Event Calendar 2.0//EN
METHOD:PUBLISH
X-PUBLISHED-TTL:P3D
REFRESH-INTERVAL:P3D
CALSCALE:GREGORIAN
BEGIN:VEVENT
DTSTART:20150823T161500Z
DTEND:20150823T230000Z
X-MICROSOFT-CDO-ALLDAYEVENT:FALSE
SUMMARY:Falls/Sussex Youth Leadership: Retreat 8/23/2015
DESCRIPTION:FALLS SUSSEX YOUTH LEADERSHIP - RETREAT
X-ALT-DESC;FMTTYPE=text/html:<p><strong><span style="font-size: 16px\;"><span style="color: rgb(0\, 0\, 205)\;">FALLS SUSSEX YOUTH LEADERSHIP - RETREAT</span></span></strong></p>\n
LOCATION:Camp Minikani 875 Amy Belle Lake Rd Hubertus\, WI 53033
UID:e.596.487
SEQUENCE:3
DTSTAMP:20260419T153419Z
URL:https://business.gmfschamber.com/events/details/falls-sussex-youth-leadership-retreat-8-23-2015-08-23-2015-487
END:VEVENT

END:VCALENDAR
