BEGIN:VCALENDAR
VERSION:2.0
PRODID:-//ChamberMaster//Event Calendar 2.0//EN
METHOD:PUBLISH
X-PUBLISHED-TTL:P3D
REFRESH-INTERVAL:P3D
CALSCALE:GREGORIAN
BEGIN:VEVENT
DTSTART:20150130T000000Z
DTEND:20150130T020000Z
X-MICROSOFT-CDO-ALLDAYEVENT:FALSE
SUMMARY:Falls/Sussex Youth Leadership: Commencement
DESCRIPTION:Falls Sussex Youth Leadership Commencement
X-ALT-DESC;FMTTYPE=text/html:Falls Sussex Youth Leadership Commencement<br />\n&nbsp\;
LOCATION:Silver Spring Golf Club N56 W21318 Silver Spring Dr Menomonee Falls\, WI 53051
UID:e.596.360
SEQUENCE:3
DTSTAMP:20260420T030834Z
URL:https://business.gmfschamber.com/events/details/falls-sussex-youth-leadership-commencement-01-29-2015-360
END:VEVENT

END:VCALENDAR
