BEGIN:VCALENDAR
VERSION:2.0
PRODID:-//ChamberMaster//Event Calendar 2.0//EN
METHOD:PUBLISH
X-PUBLISHED-TTL:P3D
REFRESH-INTERVAL:P3D
CALSCALE:GREGORIAN
BEGIN:VEVENT
DTSTART:20150917T130000Z
DTEND:20150917T191500Z
X-MICROSOFT-CDO-ALLDAYEVENT:FALSE
SUMMARY:Falls Sussex Youth Leadership: Business Day 9-17-2015
DESCRIPTION:FALLS SUSSEX YOUTH LEADERSHIP - BUSINESS DAY
X-ALT-DESC;FMTTYPE=text/html:<span style="color: rgb(0\, 0\, 205)\;"><strong><span style="font-size: 14px\;">FALLS SUSSEX YOUTH LEADERSHIP - BUSINESS DAY</span></strong></span>
LOCATION:Quad Graphics Sussex\, WI
UID:e.596.492
SEQUENCE:3
DTSTAMP:20260419T135302Z
URL:https://business.gmfschamber.com/events/details/falls-sussex-youth-leadership-business-day-9-17-2015-09-17-2015-492
END:VEVENT

END:VCALENDAR
