BEGIN:VCALENDAR
VERSION:2.0
PRODID:-//ChamberMaster//Event Calendar 2.0//EN
METHOD:PUBLISH
X-PUBLISHED-TTL:P3D
REFRESH-INTERVAL:P3D
CALSCALE:GREGORIAN
BEGIN:VEVENT
DTSTART:20150207T013000Z
DTEND:20150208T200000Z
X-MICROSOFT-CDO-ALLDAYEVENT:FALSE
SUMMARY:Falls Patio Players presents "Mama Won't Fly"
DESCRIPTION:Falls Patio Players presents the Jones\, Hope\, Wooten comedy\, Mama Won't Fly.  Savannah Sprunt Fairchild Honeycutt has to get her mother from Alabama to California for her brother's wedding.  But there's one problem - Mama won't fly.  Savannah\, Mama and the bride-to-be have only four days to make it to the ceremony in Mama's old Buick.  The trip is full of chaos\, including car theft\, an incident at an underwear museum\, and a fight with an ordained minister-showgirl in Vegas.  Come join in the fun on February 6\,7\,13\,14 @ 7:30 pm and 8\,15 @ 2 pm.  Make it a Valentines date!  The performance is at North Middle School auditorium at N88 W16750 Garfield Drive. Tickets can be purchased on-line at fallspatioplayers.com or call the 24 information line at 262-255-8372.  Prices are $13 for Seniors / Students and $15 for Adults.  Handicapped access is through the rear theatre lobby doors.  Follow us on Facebook\, Twitter and Instagram.
X-ALT-DESC;FMTTYPE=text/html:<p><strong><span style="font-family:arial narrow\,sans-serif">Falls Patio Players</span></strong><span style="font-family:arial narrow\,sans-serif"> presents the Jones\, Hope\, Wooten comedy\, <strong><em>Mama Won&#39\;t Fly</em></strong>.&nbsp\; Savannah Sprunt Fairchild Honeycutt has to get her mother from Alabama to California for her brother&#39\;s wedding.&nbsp\; But there&#39\;s one problem - Mama won&#39\;t fly.&nbsp\; Savannah\, Mama and the bride-to-be have only four days to make it to the ceremony in Mama&#39\;s old Buick.&nbsp\; The trip is full of chaos\, including car theft\, an incident at an underwear museum\, and a fight with an ordained minister-showgirl in Vegas.&nbsp\; Come join in the fun on February 6\,7\,13\,14 @ 7:30 pm and 8\,15 @ 2 pm.&nbsp\; Make it a Valentines date!&nbsp\; The performance is at North Middle School auditorium at N88 W16750 Garfield Drive. Tickets can be purchased on-line at fallspatioplayers.com or call the 24 information line at 262-255-8372.&nbsp\; Prices are $13 for Seniors / Students and $15 for Adults.&nbsp\; Handicapped access is through the rear theatre lobby doors.&nbsp\; Follow us on Facebook\, Twitter and Instagram.</span></p>\n
LOCATION:North Middle School auditorium at N88 W16750 Garfield Drive
UID:e.596.420
SEQUENCE:3
DTSTAMP:20260420T002328Z
URL:https://business.gmfschamber.com/events/details/falls-patio-players-presents-mama-won-t-fly-02-06-2015-420
END:VEVENT

END:VCALENDAR
