BEGIN:VCALENDAR
VERSION:2.0
PRODID:-//ChamberMaster//Event Calendar 2.0//EN
METHOD:PUBLISH
X-PUBLISHED-TTL:P3D
REFRESH-INTERVAL:P3D
CALSCALE:GREGORIAN
BEGIN:VEVENT
DTSTART:20150806T220000Z
DTEND:20150807T003000Z
X-MICROSOFT-CDO-ALLDAYEVENT:FALSE
SUMMARY:Business After 5 @ Yo Cool Frozen Yogurt 8/6/15
DESCRIPTION:I SCREAM - YOU SCREAM - WE ALL SCREAM FOR...\n\nYO COOL FROZEN YOGURT\n\nBeat the heat and join us at Yo Cool for the August BA5.\n\nYO COOL WILL BE OFFERING AN iPAD IN RAFFLE!\n\nEnjoy great networking\, food\, beverage & raffles!
X-ALT-DESC;FMTTYPE=text/html:<span style="font-size: 20px\;"><span style="color: rgb(128\, 0\, 128)\;"><em><strong>I SCREAM - YOU SCREAM - WE ALL SCREAM FOR...</strong></em></span></span><br />\n<span style="font-size: 24px\;"><span style="color: rgb(0\, 255\, 0)\;"><em><span style="font-size: 36px\;">YO COOL FROZEN YOGURT</span></em></span><br />\n<em>Beat the heat and join us at Yo Cool for the August BA5.<br />\n<strong><span style="color: rgb(0\, 255\, 255)\;">YO COOL WILL BE OFFERING AN iPAD IN RAFFLE!</span></strong><br />\n<span style="color: rgb(64\, 224\, 208)\;">Enjoy great networking\, food\, beverage &amp\; raffles!</span></em></span><br />\n<br />\n&nbsp\;
LOCATION:N78W14579 Appleton Avenue Menomonee Falls\, WI
UID:e.596.433
SEQUENCE:3
DTSTAMP:20260419T165929Z
URL:https://business.gmfschamber.com/events/details/business-after-5-yo-cool-frozen-yogurt-8-6-15-08-06-2015-433
END:VEVENT

END:VCALENDAR
