BEGIN:VCALENDAR
VERSION:2.0
PRODID:-//ChamberMaster//Event Calendar 2.0//EN
METHOD:PUBLISH
X-PUBLISHED-TTL:P3D
REFRESH-INTERVAL:P3D
CALSCALE:GREGORIAN
BEGIN:VEVENT
DTSTART:20150901T220000Z
DTEND:20150902T003000Z
X-MICROSOFT-CDO-ALLDAYEVENT:FALSE
SUMMARY:Business After 5 @ Radisson Hotel 9/1/15
DESCRIPTION:Business after 5 Sponsored by:\n\nRadisson Hotel Menomonee Falls
X-ALT-DESC;FMTTYPE=text/html:Business after 5 Sponsored by:<br />\nRadisson Hotel Menomonee Falls
LOCATION:N88W14750 Main Street Menomonee Falls\, WI
UID:e.596.434
SEQUENCE:3
DTSTAMP:20260419T145855Z
URL:https://business.gmfschamber.com/events/details/business-after-5-radisson-hotel-9-1-15-09-01-2015-434
END:VEVENT

END:VCALENDAR
