BEGIN:VCALENDAR
VERSION:2.0
PRODID:-//ChamberMaster//Event Calendar 2.0//EN
METHOD:PUBLISH
X-PUBLISHED-TTL:P3D
REFRESH-INTERVAL:P3D
CALSCALE:GREGORIAN
BEGIN:VEVENT
DTSTART:20150507T220000Z
DTEND:20150508T003000Z
X-MICROSOFT-CDO-ALLDAYEVENT:FALSE
SUMMARY:Business After 5\, Malkin's Flooring 5/7/15
DESCRIPTION:MAY BUSINESS AFTER 5\n\nSPONSORED BY\n\nMALKINS FLOORING
X-ALT-DESC;FMTTYPE=text/html:<strong><span style="font-size: 14px\;">MAY BUSINESS AFTER 5<br />\nSPONSORED BY<br />\n<span style="font-size: 16px\;"><span style="color: rgb(255\, 0\, 0)\;">MALKINS FLOORING</span></span></span></strong>
LOCATION:Malkins Flooring N95W17055 Falls Parkway Menomonee Falls\, WI 53051
UID:e.596.418
SEQUENCE:3
DTSTAMP:20260419T212240Z
URL:https://business.gmfschamber.com/events/details/business-after-5-malkin-s-flooring-5-7-15-05-07-2015-418
END:VEVENT

END:VCALENDAR
