BEGIN:VCALENDAR
VERSION:2.0
PRODID:-//ChamberMaster//Event Calendar 2.0//EN
METHOD:PUBLISH
X-PUBLISHED-TTL:P3D
REFRESH-INTERVAL:P3D
CALSCALE:GREGORIAN
BEGIN:VEVENT
DTSTART:20150409T220000Z
DTEND:20150410T003000Z
X-MICROSOFT-CDO-ALLDAYEVENT:FALSE
SUMMARY:Business After 5 @ Fred Astaire Dance Studio 4/9/15
DESCRIPTION:April Business After 5 Sponsored by:\n\nFred Astaire Dance Studio\n\n\n\nTIME TO PUT ON YOUR DANCING SHOES AND JOIN US FOR A GREAT EVENING OF FUN AND NETWORKING AT FRED ASTAIRE DANCE STUDIO
X-ALT-DESC;FMTTYPE=text/html:<strong><span style="font-size: 16px\;"><em>April Business After 5 Sponsored by:</em></span><br />\n<span style="font-size: 14px\;"><span style="font-size: 16px\;"><em><strong>Fred Astaire Dance Studio</strong></em></span><br />\n<br />\n<span style="color: rgb(255\, 0\, 0)\;"><span style="font-size: 18px\;">TIME TO PUT ON YOUR DANCING SHOES AND JOIN US FOR A GREAT EVENING OF FUN AND NETWORKING AT FRED ASTAIRE DANCE STUDIO</span></span></span></strong>
LOCATION:Fred Astaire Dance Studio N87W17317 Main Street Menomonee Falls\, WI
UID:e.596.422
SEQUENCE:3
DTSTAMP:20260419T212524Z
URL:https://business.gmfschamber.com/events/details/business-after-5-fred-astaire-dance-studio-4-9-15-04-09-2015-422
END:VEVENT

END:VCALENDAR
