BEGIN:VCALENDAR
VERSION:2.0
PRODID:-//ChamberMaster//Event Calendar 2.0//EN
METHOD:PUBLISH
X-PUBLISHED-TTL:P3D
REFRESH-INTERVAL:P3D
CALSCALE:GREGORIAN
BEGIN:VEVENT
DTSTART:20150122T230000Z
DTEND:20150123T030000Z
X-MICROSOFT-CDO-ALLDAYEVENT:FALSE
SUMMARY:Annual Awards Banquet Presented by First Bank Financial Centre\, 1/22/2015
DESCRIPTION:Please join us as we celebrate the Chamber's 75th Anniversary & " A Passport Through Time"\n\nThursday January 22\, 2015\, Hilton Garden Inn\, 11600 W. Park Place\, Milwaukee\, WI 53224: 5:00 p.m.\n\nReservations: $50/person or $400/reserved table of 8\n\nPlease R.S.V.P. with dinner selection ON-LINE or to the Chamber office by Thursday January 15\, 2015 \n\n262-251-2430 or toni@fallschamber.com\n\n\n\nDinner Options: Bacon Wrapped Pork Filet or Chicken Marsala\n\nSpecial dietary restrictions upon request & will be Chef's selection.\n\n\n\n2014 Award Recipients\n\nBusiness of the Year: Magnetek\, Inc.\n\nCaptain of Industry: Waukesha County Technical College\n\nChairperson of the Year: Michael Stelter\n\nVolunteer of the Year: Pamela Polyak\n\nCommunity Improvement: Glenroy\, Inc.\n\nCommunity Service: Menomonee Falls Neighborhood Watch\n\nLarry Stewart Humanitarian: Lowell Carl\n\nPresident's Award: Mike Moore
X-ALT-DESC;FMTTYPE=text/html:<br />\n<span style="color: rgb(0\, 0\, 128)\;"><span style="font-weight: bold\;"><span style="font-family: garamond\;"><span style="font-size: 14pt\;">Please join us as we celebrate the Chamber&rsquo\;s 75th Anniversary &amp\; &ldquo\; A Passport Through Time&rdquo\;</span></span></span></span><br />\n<span style="language: en-US\;"><span style="color: rgb(0\, 20\, 40)\;"><span style="font-family: garamond\;"><span style="font-size: 11pt\;">Thursday January 22\, 2015\, </span></span></span></span><span style="language: en-US\;"><span style="color: rgb(0\, 20\, 40)\;"><span style="font-family: garamond\;"><span style="font-size: 11pt\;">Hilton Garden Inn\, </span></span></span></span><span style="language: en-US\;"><span style="color: rgb(0\, 20\, 40)\;"><span style="font-family: garamond\;"><span style="font-size: 11pt\;">11600 W. Park Place\, Milwaukee\, WI 53224: </span></span></span></span><span style="language: en-US\;"><span style="color: rgb(0\, 20\, 40)\;"><span style="font-family: garamond\;"><span style="font-size: 11pt\;">5:00 p.m.</span></span></span></span><br />\n<span style="font-size: 16px\;"><span style="color: rgb(0\, 0\, 128)\;"><span style="font-weight: bold\; language: en-US\;"><span style="font-family: garamond\;">Reservations: $50/person or $400/reserved table of 8</span></span></span></span><br />\n<span style="language: en-US\;"><span style="color: rgb(0\, 20\, 40)\;"><span style="font-family: garamond\;"><span style="font-size: 11pt\;"><span style="background-color: rgb(255\, 255\, 0)\;">Please R.S.V.P. with dinner selection&nbsp\;ON-LINE or&nbsp\;to the Chamber office by Thursday January 15\, 2015 </span></span></span></span></span><br />\n<span style="language: en-US\;"><span style="color: rgb(0\, 20\, 40)\;"><span style="font-family: garamond\;"><span style="font-size: 11pt\;"><span style="background-color: rgb(255\, 255\, 0)\;">262-251-2430 or </span><span style="background-color: rgb(255\, 255\, 0)\;">toni</span><span style="background-color: rgb(255\, 255\, 0)\;">@fallschamber.com</span></span></span></span></span><br />\n<br />\n<span style="language: en-US\;"><span style="color: rgb(0\, 20\, 40)\;"><span style="font-family: garamond\;"><span style="font-size: 11pt\;"><span style="background-color: rgb(255\, 255\, 0)\;">Dinner Options: </span></span></span></span></span><span style="language: en-US\;"><span style="color: rgb(0\, 20\, 40)\;"><span style="font-family: garamond\;"><span style="font-size: 11pt\;"><span style="background-color: rgb(255\, 255\, 0)\;">Bacon Wrapped Pork Filet </span></span></span></span></span><span style="language: en-US\;"><span style="color: rgb(0\, 20\, 40)\;"><span style="font-family: garamond\;"><span style="font-size: 11pt\;"><span style="background-color: rgb(255\, 255\, 0)\;">or </span></span></span></span></span><span style="language: en-US\;"><span style="color: rgb(0\, 20\, 40)\;"><span style="font-family: garamond\;"><span style="font-size: 11pt\;"><span style="background-color: rgb(255\, 255\, 0)\;">Chicken Marsala</span></span></span></span></span><br />\n<span style="language: en-US\;"><span style="color: rgb(0\, 20\, 40)\;"><span style="font-family: garamond\;"><span style="font-size: 8pt\;">Special dietary restrictions upon request &amp\; will be Chef&rsquo\;s selection.</span></span></span></span><br />\n<br />\n<span style="color: rgb(0\, 0\, 128)\;"><span style="font-weight: bold\; language: en-US\;"><span style="font-family: garamond\;"><span style="font-size: 16pt\;">2014 Award Recipients</span></span></span></span><br />\n<span style="font-size: 14px\;"><span style="font-weight: bold\; language: en-US\;"><span style="color: rgb(0\, 20\, 40)\;"><span style="font-family: garamond\;">Business of the Year: </span></span></span><span style="color: rgb(0\, 20\, 40)\;"><span style="font-family: garamond\;">Magnetek\, Inc.</span></span><br />\n<span style="font-weight: bold\; language: en-US\;"><span style="color: rgb(0\, 20\, 40)\;"><span style="font-family: garamond\;">Captain of Industry: </span></span></span><span style="color: rgb(0\, 20\, 40)\;"><span style="font-family: garamond\;">Waukesha County Technical College</span></span><br />\n<span style="font-weight: bold\; language: en-US\;"><span style="color: rgb(0\, 20\, 40)\;"><span style="font-family: garamond\;">Chairperson of the Year: </span></span></span><span style="color: rgb(0\, 20\, 40)\;"><span style="font-family: garamond\;">Michael Stelter</span></span><br />\n<span style="font-weight: bold\; language: en-US\;"><span style="color: rgb(0\, 20\, 40)\;"><span style="font-family: garamond\;">Volunteer of the Year: </span></span></span><span style="color: rgb(0\, 20\, 40)\;"><span style="font-family: garamond\;">Pamela Polyak</span></span><br />\n<span style="font-weight: bold\; language: en-US\;"><span style="color: rgb(0\, 20\, 40)\;"><span style="font-family: garamond\;">Community Improvement: </span></span></span><span style="color: rgb(0\, 20\, 40)\;"><span style="font-family: garamond\;">Glenroy\, Inc.</span></span><br />\n<span style="font-weight: bold\; language: en-US\;"><span style="color: rgb(0\, 20\, 40)\;"><span style="font-family: garamond\;">Community Service: </span></span></span><span style="color: rgb(0\, 20\, 40)\;"><span style="font-family: garamond\;">Menomonee Falls Neighborhood Watch</span></span><br />\n<span style="font-weight: bold\; language: en-US\;"><span style="color: rgb(0\, 20\, 40)\;"><span style="font-family: garamond\;">Larry Stewart Humanitarian: </span></span></span><span style="color: rgb(0\, 20\, 40)\;"><span style="font-family: garamond\;">Lowell Carl</span></span><br />\n<span style="font-weight: bold\; language: en-US\;"><span style="color: rgb(0\, 20\, 40)\;"><span style="font-family: garamond\;">President&#39\;s Award: </span></span></span><span style="color: rgb(0\, 20\, 40)\;"><span style="font-family: garamond\;">Mike Moore</span></span></span><br />\n&nbsp\;<br />\n&nbsp\;
LOCATION:Hilton Garden Inn Milwaukee Park Place 11600 W Park Place Milwaukee\, WI 53224
UID:e.596.401
SEQUENCE:3
DTSTAMP:20260420T020025Z
URL:https://business.gmfschamber.com/events/details/annual-awards-banquet-presented-by-first-bank-financial-centre-1-22-2015-01-22-2015-401
END:VEVENT

END:VCALENDAR
